BEGIN:VCALENDAR
VERSION:2.0
PRODID:-//MTB-BG.com - ECPv6.15.20//NONSGML v1.0//EN
CALSCALE:GREGORIAN
METHOD:PUBLISH
X-ORIGINAL-URL:https://mtb-bg.com
X-WR-CALDESC:Събития за MTB-BG.com
REFRESH-INTERVAL;VALUE=DURATION:PT1H
X-Robots-Tag:noindex
X-PUBLISHED-TTL:PT1H
BEGIN:VTIMEZONE
TZID:Europe/Sofia
BEGIN:DAYLIGHT
TZOFFSETFROM:+0200
TZOFFSETTO:+0300
TZNAME:EEST
DTSTART:20250330T010000
END:DAYLIGHT
BEGIN:STANDARD
TZOFFSETFROM:+0300
TZOFFSETTO:+0200
TZNAME:EET
DTSTART:20251026T010000
END:STANDARD
BEGIN:DAYLIGHT
TZOFFSETFROM:+0200
TZOFFSETTO:+0300
TZNAME:EEST
DTSTART:20260329T010000
END:DAYLIGHT
BEGIN:STANDARD
TZOFFSETFROM:+0300
TZOFFSETTO:+0200
TZNAME:EET
DTSTART:20261025T010000
END:STANDARD
BEGIN:DAYLIGHT
TZOFFSETFROM:+0200
TZOFFSETTO:+0300
TZNAME:EEST
DTSTART:20270328T010000
END:DAYLIGHT
BEGIN:STANDARD
TZOFFSETFROM:+0300
TZOFFSETTO:+0200
TZNAME:EET
DTSTART:20271031T010000
END:STANDARD
END:VTIMEZONE
BEGIN:VEVENT
DTSTART;TZID=Europe/Sofia:20260420T000000
DTEND;TZID=Europe/Sofia:20260426T235959
DTSTAMP:20260425T164836
CREATED:20260418T134558Z
LAST-MODIFIED:20260418T134600Z
UID:10000739-1776643200-1777247999@mtb-bg.com
SUMMARY:Велоучилище МТБ-БГ | Тренировки в 11 Bike Park – 20-26 април 2026
DESCRIPTION:За седмицата 20-26 април за почти всеки от дните съм обявил часове в 11 Bike Park. Там има и чудесен асфалтов пъмптрак\, както и други неща в закритата част\, така че дори при дъжд или при неподходящи условия на външните трасета\, има има къде и какво да учим и упражняваме. \n\n\n\nЗасега съм обявил следните присъствени часове*: \n\n\n\n\nпонеделник (20 април) от 10:00 до 17:00 ч;\n\n\n\nсряда (22 април) от 10:00 до 15:00 ч;\n\n\n\nчетвъртък (23 април) от 10:00 до 19:00 ч; \n\n\n\nпетък (24 април) от 10:00 до 14:00 ч; \n\n\n\nнеделя (26 април) от 10:00 до 18:00 ч. \n\n\n\n\n*Присъствени часове означава\, че ще отида в байкпарка\, ако има предварително записани участници за тях; в противен случай може и да не съм там. \n\n\n\nЧасовете са обявени като персонални уроци (продължителност 60 минути\, цена 44 евро / 86 лв.)\, но няма проблем да ги заменя и с други формати при желаещи за такива – например семейна тренировка\, тренировка за двама\, групова тренировка\, групова тренировка за деца. \n\n\n\nЗаписванията стават през сайта на байкпарка: https://book.11bikepark.com/calendar/. Може и през мен\, ако предпочитате така. При желание за друг формат тренировка\, различен от обявеното\, може да ми се обадите на тел. 0887321695.
URL:https://mtb-bg.com/event/bikeschool-mtbbg-11-bike-park-20-26-april-2026
CATEGORIES:Курсове и обучения
ATTACH;FMTTYPE=image/jpeg:https://mtb-bg.com/wp-content/uploads/2026/03/mtb-bg-bikeschool_11-bike-park_title-03.jpg
END:VEVENT
BEGIN:VEVENT
DTSTART;TZID=Europe/Sofia:20260424T000000
DTEND;TZID=Europe/Sofia:20260505T235959
DTSTAMP:20260425T164836
CREATED:20260125T104927Z
LAST-MODIFIED:20260125T104930Z
UID:10000721-1776988800-1778025599@mtb-bg.com
SUMMARY:Black Sea Route Epic 2026 Bike Tour
DESCRIPTION:Здравейте\, приятели и любители на приключенията и пътешествията! \n\n\n\nСдружение „Черноморски път“\, Велоуикенд\, Велоклуб „УСТРЕМ“ и ТД “Родни Балкани” Ви каним да се включите във II-то издание на този велосипеден тур по част от туристическия велосипеден и пешеходен маршрут „Черноморски път“! \n\n\n\nТази година сме решили да Ви покажем още от маршрута на румънска територия\, като стартът ни ще бъде в Община Журиловка на Дунавската делта. Започвайки на 24.04. от Vișina/Вишина\, Румъния\, ни предстоят дванадесет дни колоездене по крайбрежните горски\, полски\, каменисти и пясъчни пътеки\, за да достигнем на 05.05. до малкото\, сгушено в края на българските земи с. Резово (носещо името си от и смятано за родно място на прочутия митичен тракийски цар Резос). \n\n\n\nПреходът ще бъде белязан от свежо пролетно време\, финалните акорди на миграцията на птиците\, плахото разлистване на гората и разцъфнали цветя\, а хладният морски бриз ще ни кара да очакваме с още по-голямо нетърпение настъпващото лято. \n\n\n\nПодробности вижте тук: https://www.facebook.com/events/2665978423757007/
URL:https://mtb-bg.com/event/black-sea-route-epic-2026-bike-tour
CATEGORIES:Турове и организирани карания
ATTACH;FMTTYPE=image/jpeg:https://mtb-bg.com/wp-content/uploads/2026/01/events-2026_black-sea-route-epic-2026.jpg
END:VEVENT
BEGIN:VEVENT
DTSTART;TZID=Europe/Sofia:20260425T000000
DTEND;TZID=Europe/Sofia:20260425T235959
DTSTAMP:20260425T164836
CREATED:20260420T113157Z
LAST-MODIFIED:20260420T182230Z
UID:10000740-1777075200-1777161599@mtb-bg.com
SUMMARY:Велоучилище МТБ-БГ | Курс за начинаещи – Войнеговци\, 25 април 2026
DESCRIPTION:Прогнозата за този уикенд е добра и на 25 април\, събота\, е време за първия за 2026 г. курс на Велоучилище МТБ-БГ за ниво начинаещи по пътеката „Манчо“ над Войнеговци. Както вероятно знаете\, тази пътека е много забавна и разнообразна\, така че дори и напредващи са добре дошли\, особено ако не са идвали до момента на друг курс и искат да минат през всички основни техники и упражнения.  \n\n\n\nЗасега прогнозата за времето е идеална.  Има вероятност от леки превалявания следобед\, но се надявам да се разминат.   \n\n\n\nЩе се срещнем на площада в Локорско (защото има повече място за паркиране)\, където ще отметнем „административната част“ (декларации\, такси за участие и т.н.)\, ще направим проверка на велосипедите и начални упражнения за завиване\, баланс и др. След това потегляме в посока Войнеговци\, като преди селото започва изкачването към в.з. Манчов валог. В края на изкачването ще направим кратка обедна почивка – носете си някаква храна за хапване в гората. След това ни очаква спускането – пътеката е много приятна и лека\, като по нея ще можем да упражним на начално ниво някои от важните техники като спиране\, завиване\, преодоляване на някои видове препятствия. Тъй като пътеката не е много дълга\, може да остане време за още едно спускане по нея (ако участниците желаят да се изкачим втори път)\, а може и да не остане – всеки път е различно. \n\n\n\nНИВО: начинаещи*Как да определите нивото си е обяснено тук: https://mtb-bg.com/2016/08/05/tips-2016-mtb-bg-bikeschool-level-test.*Във формуляра съм оставил възможност за записване и на ниво напредващи\, защото дори и за тях курсът може да е полезен в една или друга насока\, особено ако не са идвали до момента на подобно обучение. \n\n\n\nМИНИМАЛЕН БРОЙ УЧАСТНИЦИ: 4МАКСИМАЛЕН БРОЙ УЧАСТНИЦИ: 8 \n\n\n\nТАКСА: 40 евро /човек (78.23 лв.)Таксата за участие се заплаща на място в деня на обучението.За читатели с абонамент в МТБ-БГ е предвидена и скромна отстъпка от цената.Таксата включва участие в упражнения с инструктор за усвояване на основните техники за каране на планински велосипед.Таксата НЕ включва застраховки\, транспорт\, настаняване\, храна и други подобни услуги. \n\n\n\nПРОГРАМА: \n\n\n\nСъбота\, 25 април 2026 г.09:00 – Среща и регистрация (Локорско\, главния площад\, https://goo.gl/maps/T7yJcLcbQdu)09:00 – 11:00 – Проверка на велосипедите\, кратки начални обяснения и упражнения.11:00 – 12:00 – Изкачване до началото на пътеката и кратка почивка за обяд.12:00 – 16:30 – Спускане по пътеката със спирания за упражнения\, последвано евентуално от второ спускане. \n\n\n\nВажно! Сутринта се очаква да е хладно\, така че вземете си и по-топли дрехи. Преди да тръгнем към планината\, може да оставим излишните дрехи в колите. Носете си достатъчно вода (поне 1 – 1.5 л)\, защото по маршрута няма чешми\, а също и нещо за хапване\, тъй като по обяд ще сме в гората.  \n\n\n\nЗАПИСВАНЕ \n\n\n\nФормуляр за записване: https://forms.gle/LK4UniLry5fn6VNr8 \n\n\n\nЖелаещите да участват в мероприятието трябва да се запишат най-късно до 13:00 ч на 24 април 2026 г. чрез попълване на формуляра. Записвания след този срок ще са възможни само при наличие на незаети места. Посочват се име и фамилия на участника\, възраст\, e-mail и телефон за обратна връзка. Местата са ограничени! Събитието ще се проведе само при наличие на минималния брой участници. Окончателно потвърждение за провеждане на курса ще бъде изпратено по e-mail най-късно на 24 април 2026 г. след 13:00 ч. Моля\, проверете и папката СПАМ\, защото понякога писмата попадат в нея и не достигат навреме до получателите. \n\n\n\nИЗИСКВАНИЯ КЪМ УЧАСТНИЦИТЕ: \n\n\n\n– Да са на възраст 18 години или повече. \n\n\n\n*Участници от 8 до 14 години ще бъдат допускани в обученията за начинаещи само в присъствието на родител\, който да ги наблюдава. Участници на възраст от 15 до 17 години може да бъдат допуснати и в заниманията за напредващи след попълване на декларация за освобождаване от отговорност от страна на родител/настойник. \n\n\n\n– Да носят каска и ръкавици по време на упражненията – задължително! \n\n\n\n– Препоръчително е да носят и допълнителна защитна екипировка – очила\, наколенки\, налакътници и др. \n\n\n\n– Да участват с изправен планински велосипед. \n\n\n\n– Да са заплатили таксата за участие (заплаща се на място преди започване на обучението). \n\n\n\n– Да подпишат пред инструктора Декларация за освобождаване от отговорност. \n\n\n\n– Препоръчително е всеки участник да има Планинска застраховка и застраховка „Злополука“. \n\n\n\n*Тези застраховки могат да ви спестят разходи в случай на травма\, оказване на първа помощ\, спасяване в планината и други неприятни ситуации. Организаторите на събитието не носят отговорност за каквито и да е разходи\, възникнали за участниците във връзка с такъв инцидент. \n\n\n\nСъбитие във Facebook: https://www.facebook.com/events/1327346229268835 \n\n\n\nЗа въпроси и информация може да ползвате е-mail info.mtbbg@gmail.com или тел. 0887321695.
URL:https://mtb-bg.com/event/bikeschool-mtbbg-voinegovtsi-2026-04-25
CATEGORIES:Курсове и обучения
ATTACH;FMTTYPE=image/jpeg:https://mtb-bg.com/wp-content/uploads/2023/10/mtb-bg-bikeschool_voinegovtsi-2023_title.jpg
END:VEVENT
END:VCALENDAR